Workbook
Name \A: #REF!
Name \A: #REF!
Name \B: #REF!
Name \B: #REF!
Name \D: #REF!
Name \D: #REF!
Name \E: #REF!
Name \F: #REF!
Name \G: #REF!
Name \H: #REF!
Name \I: #REF!
Name \J: #REF!
Name \M: #REF!
Name \P: #REF!
Name \S: #REF!
Name \T: #REF!
Name \T1: #REF!
Name \T2: [1]BOP!#REF!
Name \U: #REF!
Name \W: #REF!
Name _10GAZ_LIABS: #REF!
Name _11INT_RESERVES: #REF!
Name _1r: #REF!
Name _2Macros_Import_.qbop: [3]!'[Macros Import].qbop'
Name _6B.2_B.3: #REF!
Name _7B.4___5: #REF!
Name _8CONSOL_B2: #REF!
Name _9FA_L: #REF!
Name _BOP2: [4]BoP!#REF!
Name _END94: #REF!
Name _RES2: [4]RES!#REF!
Name _SUM2: #REF!
Name _TAB1: #REF!
Name _Tab19: #REF!
Name _Tab20: #REF!
Name _Tab21: #REF!
Name _Tab22: #REF!
Name _Tab23: #REF!
Name _Tab24: #REF!
Name _Tab26: #REF!
Name _Tab27: #REF!
Name _Tab28: #REF!
Name _Tab29: #REF!
Name _Tab30: #REF!
Name _Tab31: #REF!
Name _Tab32: #REF!
Name _Tab33: #REF!
Name _Tab34: #REF!
Name _Tab35: #REF!
Name _WB2: #REF!
Name _YR0110: '[1]Imp:DSA output'!$O$9:$R$464
Name _YR89: '[1]Imp:DSA output'!$C$9:$C$464
Name _YR90: '[1]Imp:DSA output'!$D$9:$D$464
Name _YR91: '[1]Imp:DSA output'!$E$9:$E$464
Name _YR92: '[1]Imp:DSA output'!$F$9:$F$464
Name _YR93: '[1]Imp:DSA output'!$G$9:$G$464
Name _YR94: '[1]Imp:DSA output'!$H$9:$H$464
Name _YR95: '[1]Imp:DSA output'!$I$9:$I$464
Name _Z: [1]Imp!#REF!
Name AAA: #REF!

Sheet Index
B3: Tables Government Finance Statistics Jan 2023 – May 2026
B6: Tabel | C6: Titel
B7: T 1.0 | C7: Suriname: Central government operations on adjusted cash basis, Jan 2023 - May 2026 (SRD million)
B8: T 1.1 | C8: Suriname: Central government operations budget vs realisation, Jan - May 2026 (SRD million)
B9: T 2.1.1 | C9: Suriname: Government revenues from mining and non-mining, Jan 2023 - May 2026 (SRD million)
B10: T 2.1.2 | C10: Suriname: Mining revenues by company segment, revenue type and original currency, Jan 2023 - May 2026
B11: T 2.1.3 | C11: Suriname: Mining revenues by revenue type, Jan 2023 - May 2026 (SRD million)
B12: T 2.1.4 | C12: Suriname: Oil and Mining revenues by revenue type, Jan 2023 - May 2026 (SRD million)
B13: T 2.2 | C13: Suriname: Direct taxes, Jan 2023 - May 2026 (SRD million)
B14: T 2.3 | C14: Suriname: Indirect taxes, Jan 2023 - May 2026 (SRD million)
B15: T 2.4 | C15: Suriname: Non-tax revenues, Jan 2023 - May 2026 (SRD million)
B16: T 2.5 | C16: Suriname: Wages and salaries of civil servants by ministry, Jan 2023 - May 2026 (SRD million)
B17: T 2.6 | C17: Suriname: Wages and salaries of civil servants by type of allowance, Jan 2023 - May 2026 (SRD million)
... B23: T 2.12 | C23: Suriname: Financing, Jan 2023 - May 2026 (SRD million)
B26: versie 1 apr 2026

Sheet T1.0
B2: Table 1.0 Suriname: Central government operations on adjusted cash basis, Jan 2023 - May 2026 (SRD million)
C5: ='T 2.1.1'!C6 -> 44927 | D5: ='T 2.1.1'!D6 -> 44958 | E5: ='T 2.1.1'!E6 -> 44986 | F5: ='T 2.1.1'!F6 -> 45017 | G5: ='T 2.1.1'!G6 -> 45047 | H5: ='T 2.1.1'!H6 -> 45078 | I5: ='T 2.1.1'!I6 -> 45108 | J5: ='T 2.1.1'!J6 -> 45139 | ... AQ5: ='T 2.1.1'!AQ6 -> 46143
B7: Total revenues | C7: 2703.3521 | D7: 1930.5313 | E7: 2639.3926 | F7: 2590.6231 | G7: 3096.5882 | H7: 2854.3237 | I7: 3230.1768 | J7: 3123.3425 | K7: 2677.3685 | L7: 3511.0462 | M7: 2989.6912 | N7: 3711.1489 | O7: 3161.5915 | P7: 3522.0912 | Q7: 3169.7207 | R7: 3224.7024 | S7: 3027.9309 | T7: 3106.2265 | U7: 3583.8644 | V7: 2270.5037 | W7: 4337.8376 | X7: 3385.4691 | Y7: 3150.4832 | Z7: 3472.2753 | AA7: 3576.425 | AB7: 3589.4321 | AC7: 3779.9863 | AD7: 4518.0059 | AE7: 3760.8736 | AF7: 4599.9699 | AG7: 5302.5165 | AH7: 3353.3711 | AI7: 3597.4234 | AJ7: 7082.8176 | AK7: 3091.3469 | AL7: 5866.4722 | AM7: 6788.4703 | AN7: 5476.8045 | AO7: 7190.4641 | AP7: 6830.3493 | AQ7: 4371.9381
B8: On adjusted cash basis:
B9: Tax revenues | C9: 1524.8385 | D9: 1125.8587 | E9: 1623.2285 | F9: 1701.6424 | G9: 1823.3174 | H9: 1877.3182 | I9: 2121.049 | J9: 2353.1672 | K9: 1788.624 | L9: 2192.0279 | M9: 1894.2255 | N9: 2274.8491 | O9: 2132.0187 | P9: 2073.5761 | Q9: 2200.049 | R9: 2316.9012 | S9: 2312.7185 | T9: 2516.4201 | U9: 2735.1197 | V9: 1804.6553 | W9: 2440.2575 | X9: 2454.8424 | Y9: 2291.7334 | Z9: 2598.6241 | AA9: 2862.545 | AB9: 2212.3294 | AC9: 2481.9292 | AD9: 3103.9575 | AE9: 2820.0294 | AF9: 3504.5704 | AG9: 3920.1524 | AH9: 2823.1527 | AI9: 3013.9946 | AJ9: 4550.1344 | AK9: 2411.4174 | AL9: 3973.498 | AM9: 3710.5185 | AN9: 2663.2137 | AO9: 5772.1478 | AP9: 4399.6392 | AQ9: 2803.724
B10: Direct taxes | C10: 862.50102 | D10: 535.06698 | E10: 993.21996 | F10: 1037.4063 | G10: 1083.1799 | H10: 1121.3126 | I10: 1413.0011 | J10: 1207.6005 | K10: 998.94586 | L10: 1135.0823 | M10: 998.18167 | N10: 1106.0159 | O10: 913.79263 | P10: 909.96061 | Q10: 1234.4838 | R10: 1316.8441 | S10: 1151.9645 | T10: 1577.1802 | U10: 1698.983 | V10: 806.48786 | W10: 1275.8931 | X10: 1252.5664 | Y10: 932.22499 | Z10: 1479.7107 | AA10: 1353.8774 | AB10: 905.82002 | AC10: 1212.5649 | AD10: 1654.2235 | AE10: 1110.3468 | AF10: 2008.3861 | AG10: 2388.6536 | AH10: 1145.4149 | AI10: 1344.9857 | AJ10: 2775.2495 | AK10: 952.87033 | AL10: 2142.0857 | AM10: 1935.6846 | AN10: 1078.1697 | AO10: 4187.6172 | AP10: 2818.7194 | AQ10: 1325.3099
B11: Indirect taxes | C11: 662.3375 | D11: 590.79173 | E11: 630.00854 | F11: 664.23612 | G11: 740.1375 | H11: 756.00564 | I11: 708.04786 | J11: 1145.5667 | K11: 789.67816 | L11: 1056.9455 | M11: 896.04386 | N11: 1168.8332 | O11: 1218.2261 | P11: 1163.6154 | Q11: 965.56518 | R11: 1000.0571 | S11: 1160.754 | T11: 939.2399 | U11: 1036.1366 | V11: 998.16745 | W11: 1164.3644 | X11: 1202.2761 | Y11: 1359.5084 | Z11: 1118.9133 | AA11: 1508.6676 | AB11: 1306.5094 | AC11: 1269.3643 | AD11: 1449.7341 | AE11: 1709.6826 | AF11: 1496.1843 | AG11: 1531.4987 | AH11: 1677.7377 | AI11: 1669.009 | AJ11: 1774.8849 | AK11: 1458.5471 | AL11: 1831.4123 | AM11: 1774.8339 | AN11: 1585.044 | AO11: 1584.5307 | AP11: 1580.9198 | AQ11: 1478.414
B12: Non-tax revenues | C12: 1178.4179 | D12: 804.67263 | E12: 1015.8617 | F12: 888.98073 | G12: 1267.4078 | H12: 973.31581 | I12: 1109.1278 | J12: 693.3831 | K12: 888.74452 | L12: 1198.733 | M12: 1081.8559 | N12: 1281.8253 | O12: 1029.5728 | P12: 1448.5152 | Q12: 873.88417 | R12: 903.60941 | S12: 714.63862 | T12: 589.80635 | U12: 848.74474 | V12: 465.8484 | W12: 1897.5802 | X12: 930.62665 | Y12: 858.74983 | Z12: 873.65126 | AA12: 531.75606 | AB12: 1373.7752 | AC12: 1296.7127 | AD12: 1321.7046 | AE12: 940.84418 | AF12: 1091.4549 | AG12: 1238.3097 | AH12: 530.2184 | AI12: 583.42882 | AJ12: 2525.0542 | AK12: 679.92948 | AL12: 1892.9742 | AM12: 2998.4059 | AN12: 2813.5908 | AO12: 1418.3163 | AP12: 2369.3726 | AQ12: 1568.2141
B13: Grants | C13: 0.095689464 | D13: 0 | E13: 0.30240247 | F13: 0 | G13: 5.86307 | H13: 3.6897 | I13: 0 | J13: 76.7922 | K13: 0 | L13: 120.28531 | M13: 13.609785 | N13: 154.47458 | O13: 0 | P13: 0 | Q13: 95.7875 | R13: 4.19184 | S13: 0.57372944 | T13: 0 | U13: 0 | V13: 0 | W13: 0 | X13: 0 | Y13: 0 | Z13: 0 | AA13: 182.12391 | AB13: 3.32748 | AC13: 1.3443233 | AD13: 92.343799 | AE13: 0 | AF13: 3.94452 | AG13: 144.05441 | AH13: 0 | AI13: 0 | AJ13: 7.629 | AK13: 0 | AL13: 0 | AM13: 79.5459 | AN13: 0 | AO13: 0 | AP13: 61.337461 | AQ13: 0
B15: Total expenditures | C15: 2276.0926 | D15: 2261.1511 | E15: 2332.8399 | F15: 2509.3139 | G15: 3470.9393 | H15: 3075.4208 | I15: 3235.4812 | J15: 3845.2618 | K15: 2927.9951 | L15: 3771.1506 | M15: 3335.2552 | N15: 4417.5882 | O15: 4011.8063 | P15: 3346.721 | Q15: 3370.1395 | R15: 3924.1299 | S15: 3544.0325 | T15: 3126.1558 | U15: 4038.4622 | V15: 2368.0226 | W15: 2756.221 | X15: 4410.5947 | Y15: 4405.2345 | Z15: 3983.1558 | AA15: 14377.99 | AB15: 3773.7787 | AC15: 4151.6736 | AD15: 6042.0703 | AE15: 5763.0071 | AF15: 4437.7601 | AG15: 6251.2535 | AH15: 4130.7637 | AI15: 3877.6892 | AJ15: 4238.5737 | AK15: 4914.1238 | AL15: 4992.7139 | AM15: 6539.1179 | AN15: 3894.2026 | AO15: 5012.0948 | AP15: 5472.9738 | AQ15: 7958.624
B16: On adjusted cash basis:
B17: Wages and salaries | C17: 653.27885 | D17: 672.38728 | E17: 682.41854 | F17: 654.67013 | G17: 793.53984 | H17: 794.47415 | I17: 1033.3847 | J17: 802.65874 | K17: 795.03841 | L17: 770.23483 | M17: 784.75495 | N17: 894.76066 | O17: 867.53344 | P17: 854.45951 | Q17: 835.23654 | R17: 907.8301 | S17: 889.60423 | T17: 896.2077 | U17: 1046.7901 | V17: 847.24164 | W17: 896.69015 | X17: 1002.5274 | Y17: 1064.4896 | Z17: 1122.5309 | AA17: 1093.5337 | AB17: 1132.8995 | AC17: 1199.6879 | AD17: 1342.4579 | AE17: 1300.2469 | AF17: 1234.5074 | AG17: 1885.8664 | AH17: 1187.4723 | AI17: 1218.7775 | AJ17: 1152.0129 | AK17: 1147.3497 | AL17: 1237.3881 | AM17: 1278.75 | AN17: 1228.8301 | AO17: 1246.9898 | AP17: 1243.7517 | AQ17: 1265.0982
B18: Goods and services | C18: 312.61345 | D18: 312.2055 | E18: 281.07209 | F18: 300.75062 | G18: 496.03804 | H18: 564.95824 | I18: 477.40211 | J18: 692.78914 | K18: 370.09766 | L18: 516.52292 | M18: 483.54136 | N18: 860.77928 | O18: 590.69785 | P18: 575.78432 | Q18: 635.8027 | R18: 694.50005 | S18: 461.65714 | T18: 326.56219 | U18: 483.62454 | V18: 381.87159 | W18: 283.79876 | X18: 826.24292 | Y18: 629.48543 | Z18: 591.58495 | AA18: 787.96121 | AB18: 633.71253 | AC18: 899.99599 | AD18: 973.29432 | AE18: 1223.4001 | AF18: 901.51448 | AG18: 871.24061 | AH18: 638.78659 | AI18: 756.65063 | AJ18: 648.46672 | AK18: 1444.0258 | AL18: 1123.6715 | AM18: 450.41485 | AN18: 571.36083 | AO18: 974.36192 | AP18: 639.41238 | AQ18: 743.84251
B19: Subsidies and transfers | C19: 949.94613 | D19: 807.28369 | E19: 967.11697 | F19: 1002.1103 | G19: 1089.4572 | H19: 966.65624 | I19: 1178.3048 | J19: 1475.6812 | K19: 1344.8231 | L19: 1364.4684 | M19: 1452.0074 | N19: 1652.7315 | O19: 1539.9508 | P19: 1475.5813 | Q19: 1434.2264 | R19: 1434.2385 | S19: 1550.2472 | T19: 1507.4904 | U19: 1221.1681 | V19: 901.67049 | W19: 1292.4199 | X19: 1274.4124 | Y19: 1434.4698 | Z19: 1178.3864 | AA19: 11022.605 | AB19: 1367.5772 | AC19: 1451.2008 | AD19: 1572.2021 | AE19: 1896.0245 | AF19: 1500.4546 | AG19: 1830.0547 | AH19: 1605.874 | AI19: 1453.6524 | AJ19: 1775.8775 | AK19: 1651.3685 | AL19: 1699.6336 | AM19: 1722.4976 | AN19: 1699.6483 | AO19: 2003.0244 | AP19: 2408.7326 | AQ19: 2073.0299
B20: Interest | C20: 202.01532 | D20: 292.66402 | E20: 88.086009 | F20: 216.03726 | G20: 689.75162 | H20: 495.42785 | I20: 156.46037 | J20: 347.93775 | K20: 136.04804 | L20: 655.40124 | M20: 451.47655 | N20: 463.36622 | O20: 687.66609 | P20: 211.88234 | Q20: 88.898326 | R20: 604.19408 | S20: 416.35011 | T20: 160.20916 | U20: 714.28236 | V20: 75.258534 | W20: 86.354536 | X20: 533.02261 | Y20: 583.38638 | Z20: 208.42394 | AA20: 808.2739 | AB20: 215.07961 | AC20: 338.89315 | AD20: 561.38874 | AE20: 497.83279 | AF20: 309.81834 | AG20: 1050.379 | AH20: 438.93061 | AI20: 265.48465 | AJ20: 468.72931 | AK20: 455.68878 | AL20: 595.40219 | AM20: 2896.7519 | AN20: 170.9688 | AO20: 569.90811 | AP20: 871.2635 | AQ20: 3617.1603
B21: Capital expenditure | C21: 158.23882 | D21: 176.61058 | E21: 314.14632 | F21: 335.74567 | G21: 402.15261 | H21: 253.90436 | I21: 389.9293 | J21: 526.19501 | K21: 281.98792 | L21: 464.52327 | M21: 163.47491 | N21: 545.95056 | O21: 325.95813 | P21: 229.0135 | Q21: 375.97561 | R21: 283.36718 | S21: 226.17374 | T21: 235.68642 | U21: 572.59709 | V21: 161.98033 | W21: 196.95769 | X21: 774.38934 | Y21: 693.40332 | Z21: 882.22961 | AA21: 665.61585 | AB21: 424.5099 | AC21: 261.89585 | AD21: 1592.7272 | AE21: 845.50276 | AF21: 491.46536 | AG21: 613.71274 | AH21: 259.7002 | AI21: 183.12393 | AJ21: 193.48722 | AK21: 215.69099 | AL21: 336.61851 | AM21: 190.7035 | AN21: 223.39455 | AO21: 217.81063 | AP21: 309.81358 | AQ21: 259.49306
B23: Primary balance | C23: 629.27485 | D23: -37.955707 | E23: 394.6387 | F23: 297.34645 | G23: 315.40051 | H23: 274.33073 | I23: 151.15594 | J23: -373.98161 | K23: -114.57852 | L23: 395.29675 | M23: 105.9126 | N23: -243.07306 | O23: -162.54871 | P23: 387.25259 | Q23: -111.52056 | R23: -95.233372 | S23: -99.751495 | T23: 140.27981 | U23: 259.68458 | V23: -22.260334 | W23: 1667.9712 | X23: -492.10298 | Y23: -671.36489 | Z23: -302.45655 | AA23: -9993.2907 | AB23: 30.733025 | AC23: -32.794218 | AD23: -962.67564 | AE23: -1504.3008 | AF23: 472.02814 | AG23: 101.64196 | AH23: -338.46198 | AI23: -14.781079 | AJ23: 3312.9732 | AK23: -1367.0881 | AL23: 1469.1605 | AM23: 3146.1043 | AN23: 1753.5708 | AO23: 2748.2774 | AP23: 2228.639 | AQ23: 30.47435
B24: Overall balance | C24: 427.25953 | D24: -330.61973 | E24: 306.55269 | F24: 81.309189 | G24: -374.35111 | H24: -221.09712 | I24: -5.3044301 | J24: -721.91935 | K24: -250.62656 | L24: -260.10449 | M24: -345.56395 | N24: -706.43928 | O24: -850.21481 | P24: 175.37024 | Q24: -200.41888 | R24: -699.42746 | S24: -516.1016 | T24: -19.929348 | U24: -454.59778 | V24: -97.518868 | W24: 1581.6167 | X24: -1025.1256 | Y24: -1254.7513 | Z24: -510.88049 | AA24: -10801.565 | AB24: -184.34658 | AC24: -371.68737 | AD24: -1524.0644 | AE24: -2002.1336 | AF24: 162.2098 | AG24: -948.73703 | AH24: -777.39259 | AI24: -280.26573 | AJ24: 2844.2439 | AK24: -1822.7769 | AL24: 873.75828 | AM24: 249.35239 | AN24: 1582.602 | AO24: 2178.3693 | AP24: 1357.3755 | AQ24: -3586.6859
B26: Statistical Discrepancy | C26: -69.509377 | D26: 122.64535 | E26: -132.15488 | F26: 6.3995659 | G26: 57.39907 | H26: 156.39835 | I26: 13.531974 | J26: 47.927891 | K26: 32.176366 | L26: -77.184848 | M26: -33.354423 | N26: -127.73409 | O26: 27.747828 | P26: 62.292176 | Q26: -70.697524 | R26: -60.630447 | S26: 1.4952174 | T26: -94.555337 | U26: -81.066836 | V26: -16.613256 | W26: -26.230075 | X26: 37.64411 | Y26: -48.246886 | Z26: -117.20646 | AA26: -20.945684 | AB26: 14.497937 | AC26: -9.656978 | AD26: 88.70296 | AE26: -118.44249 | AF26: -108.46164 | AG26: 5.2850731 | AH26: -123.05665 | AI26: -13.227645 | AJ26: -60.206317 | AK26: -894.12145 | AL26: 148.64558 | AM26: -765.43859 | AN26: 106.87566 | AO26: 120.70116 | AP26: -496.75939 | AQ26: -122.87014
B28: Net Financial Transactions | C28: 357.75016 | D28: -207.97438 | E28: 174.39782 | F28: 87.708755 | G28: -316.95204 | H28: -64.698776 | I28: 8.2275442 | J28: -673.99146 | K28: -218.45019 | L28: -337.28934 | M28: -378.91837 | N28: -834.17336 | O28: -822.46698 | P28: 237.66242 | Q28: -271.11641 | R28: -760.0579 | S28: -514.60638 | T28: -114.48468 | U28: -535.66462 | V28: -114.13212 | W28: 1555.3866 | X28: -987.48148 | Y28: -1302.9982 | Z28: -628.08695 | AA28: -10822.51 | AB28: -169.84865 | AC28: -381.34434 | AD28: -1435.3614 | AE28: -2120.5761 | AF28: 53.748162 | AG28: -943.45195 | AH28: -900.44923 | AI28: -293.49338 | AJ28: 2784.0376 | AK28: -2716.8984 | AL28: 1022.4039 | AM28: -516.08621 | AN28: 1689.4776 | AO28: 2299.0705 | AP28: 860.61608 | AQ28: -3709.556
B29: Net Acquisition financial assets (+) | C29: 90.189584 | D29: -499.23394 | E29: 262.45166 | F29: 97.984807 | G29: -861.54806 | H29: 987.6641 | I29: -109.61216 | J29: -522.24431 | K29: 1108.9458 | L29: -700.9938 | M29: -613.43365 | N29: 5683.6762 | O29: -1461.8709 | P29: -381.58314 | Q29: -215.54338 | R29: -596.49331 | S29: -1547.1645 | T29: 245.39627 | U29: -645.14613 | V29: -383.02548 | W29: 2183.7091 | X29: -1170.2134 | Y29: -2173.5859 | Z29: 5110.9842 | AA29: -1913.5522 | AB29: -1510.9109 | AC29: 1951.9721 | AD29: -1214.2391 | AE29: -2543.886 | AF29: -227.77171 | AG29: -1330.9732 | AH29: -744.71156 | AI29: -356.39776 | AJ29: 1762.7616 | AK29: 39470.515 | AL29: -10450.432 | AM29: -12776.841 | AN29: 11489.387 | AO29: 2094.2411 | AP29: 336.11802 | AQ29: -5317.8646
B30: External | C30: 0 | D30: 0 | E30: 0 | F30: 0 | G30: 0 | H30: 0 | I30: 0 | J30: 0 | K30: 0 | L30: 0 | M30: 108.47757 | N30: -107.06003 | O30: 0 | P30: 0 | Q30: 0 | R30: 0 | S30: 0 | T30: 0 | U30: 0 | V30: 0 | W30: 0 | X30: 0 | Y30: 0 | Z30: 0 | AA30: 0 | AB30: 0 | AC30: 0 | AD30: 0 | AE30: 0 | AF30: 0 | AG30: 0 | AH30: 0 | AI30: 0 | AJ30: 0 | AK30: 40798.649 | AL30: -11544.324 | AM30: -14462.176 | AN30: 3846.0667 | AO30: -55.69262 | AP30: 51.849124 | AQ30: -3963.9534
B31: Domestic | C31: 90.189584 | D31: -499.23394 | E31: 262.45166 | F31: 97.984807 | G31: -861.54806 | H31: 987.6641 | I31: -109.61216 | J31: -522.24431 | K31: 1108.9458 | L31: -700.9938 | M31: -721.91122 | N31: 5790.7363 | O31: -1461.8709 | P31: -381.58314 | Q31: -215.54338 | R31: -596.49331 | S31: -1547.1645 | T31: 245.39627 | U31: -645.14613 | V31: -383.02548 | W31: 2183.7091 | X31: -1170.2134 | Y31: -2173.5859 | Z31: 5110.9842 | AA31: -1913.5522 | AB31: -1510.9109 | AC31: 1951.9721 | AD31: -1214.2391 | AE31: -2543.886 | AF31: -227.77171 | AG31: -1330.9732 | AH31: -744.71156 | AI31: -356.39776 | AJ31: 1762.7616 | AK31: -1328.1335 | AL31: 1093.8913 | AM31: 1685.3342 | AN31: 7643.3204 | AO31: 2149.9337 | AP31: 284.26889 | AQ31: -1353.9112
... B37: Loans | C37: -141.58582 | D37: 0.98595513 | E37: 0.3741288 | F37: 4.3426805 | G37: 4.9904515 | H37: 3.4201822 | I37: 219.12018 | J37: 2.5888031 | K37: 7.351806 | L37: 6.8246799 | M37: 14.150807 | N37: 1.4947282 | O37: 7.8340925 | P37: 5.1463531 | Q37: 8.2608335 | R37: 4.2023063 | S37: 0.29130033 | T37: 4.1335523 | U37: 10.992471 | V37: 22.696557 | W37: 8.2365817 | X37: 1.862019 | Y37: -4.1935676 | Z37: -1.355792 | AA37: 4.230097 | AB37: 80.684855 | AC37: 0.41331547 | AD37: 4.9503004 | AE37: -4.7359624 | AF37: -1.4473794 | AG37: 4.4644215 | AH37: 3.8125982 | AI37: -0.4410014 | AJ37: -1.7794948 | AK37: -1.7027656 | AL37: -1.0114417 | AM37: 0.16904381 | AN37: -1.1319323 | AO37: 1.1590727 | AP37: 0.30345842 | AQ37: 3.3485809
B38: Equity and investment fund shares | AA38: 0 | AB38: 0 | AC38: 0 | AD38: 0 | AE38: 0 | AF38: 0 | AG38: 0 | AH38: -117.5 | AI38: 0 | AJ38: 0 | AK38: 0 | AL38: 0 | AM38: 0 | AN38: 0 | AO38: 0 | AP38: 0 | AQ38: 0
B40: Net Incurrence of liabilities (+) | C40: -267.56057 | D40: -291.25956 | E40: 88.053846 | F40: 10.276052 | G40: -544.59602 | H40: 1052.3629 | I40: -117.8397 | J40: 151.74715 | K40: 1327.396 | L40: -363.70446 | M40: -234.51528 | N40: 6517.8496 | O40: -639.40396 | P40: -619.24557 | Q40: 55.573026 | R40: 163.5646 | S40: -1032.5581 | T40: 359.88095 | U40: -109.48151 | V40: -268.89335 | W40: 628.32251 | X40: -182.73194 | Y40: -870.58773 | Z40: 5739.0712 | AA40: 8908.9581 | AB40: -1341.0623 | AC40: 2333.3165 | AD40: 221.1223 | AE40: -423.30989 | AF40: -281.51987 | AG40: -387.52124 | AH40: 155.73767 | AI40: -62.904383 | AJ40: -1021.276 | AK40: 42187.414 | AL40: -11472.836 | AM40: -12260.755 | AN40: 9799.9095 | AO40: -204.82938 | AP40: -524.49807 | AQ40: -1608.3085
B41: External | C41: -177.18966 | D41: -176.21862 | E41: 174.40503 | F41: 113.46283 | G41: -323.48433 | H41: 1168.6074 | I41: 203.03693 | J41: 246.19491 | K41: 1459.8842 | L41: 702.55755 | M41: 368.49491 | N41: 7874.4514 | O41: -94.495727 | P41: -30.317688 | Q41: 828.75121 | R41: 287.78117 | S41: 27.489515 | T41: 523.19899 | U41: 222.26517 | V41: -5.1883717 | W41: 843.81238 | X41: 266.5311 | Y41: -594.73431 | Z41: 6335.1181 | AA41: -152.87751 | AB41: -19.301904 | AC41: 2479.9275 | AD41: -610.55131 | AE41: -274.1393 | AF41: -117.8095 | AG41: -188.36052 | AH41: 291.24001 | AI41: 33.405826 | AJ41: -573.85028 | AK41: 42246.376 | AL41: -11137.642 | AM41: -12087.834 | AN41: 9946.4746 | AO41: -64.862248 | AP41: -223.00209 | AQ41: -1397.6268
B42: Loans | C42: -177.18966 | D42: -176.21862 | E42: 174.40503 | F42: 113.46283 | G42: -323.48433 | H42: 1168.6074 | I42: 203.03693 | J42: 246.19491 | K42: 1459.8842 | L42: 702.55755 | M42: 368.49491 | N42: 7595.1668 | O42: -94.495727 | P42: -30.317688 | Q42: 828.75121 | R42: 287.78117 | S42: 27.489515 | T42: 523.19899 | U42: 222.26517 | V42: -5.1883717 | W42: 843.81238 | X42: 266.5311 | Y42: -594.73431 | Z42: 6335.1181 | AA42: -152.87751 | AB42: -19.301904 | AC42: 2479.9275 | AD42: -610.55131 | AE42: -274.1393 | AF42: -117.8095 | AG42: -188.36052 | AH42: 291.24001 | AI42: 33.405826 | AJ42: -573.85028 | AK42: -2019.0235 | AL42: -664.84636 | AM42: 2418.0179 | AN42: -50.87755 | AO42: -64.862248 | AP42: -223.00209 | AQ42: -1397.6268
B43: Disbursements1 | C43: 157.14145 | D43: 4.6104028 | E43: 272.49602 | F43: 117.3417 | G43: 68.261352 | H43: 1544.0101 | I43: 342.81677 | J43: 288.85915 | K43: 1522.3574 | L43: 864.8913 | M43: 664.27589 | N43: 7916.2386 | O43: 64.289277 | P43: 4.1825367 | Q43: 914.9736 | R43: 428.69543 | S43: 278.79997 | T43: 797.19337 | U43: 355.66659 | V43: 20.36505 | W43: 917.68712 | X43: 420.59993 | Y43: 176.9976 | Z43: 7595.5411 | AA43: 7.4544596 | AB43: 11.612361 | AC43: 2573.2766 | AD43: 131.25169 | AE43: 234.77981 | AF43: 224.02854 | AG43: 10.508424 | AH43: 339.41319 | AI43: 128.99824 | AJ43: 668.82561 | AK43: 236.04805 | AL43: 501.07094 | AM43: 81.858219 | AN43: 0 | AO43: 32.191488 | AP43: 74.882399 | AQ43: 69.60831
B44: Amortization1 | C44: 334.33111 | D44: 180.82902 | E44: 98.090996 | F44: 3.8788745 | G44: 391.74569 | H44: 375.40262 | I44: 139.77984 | J44: 42.664236 | K44: 62.473173 | L44: 162.33375 | M44: 295.78098 | N44: 321.07177 | O44: 158.785 | P44: 34.500225 | Q44: 86.222398 | R44: 140.91426 | S44: 251.31045 | T44: 273.99438 | U44: 133.40142 | V44: 25.553422 | W44: 73.874743 | X44: 154.06883 | Y44: 771.73192 | Z44: 1260.423 | AA44: 160.33197 | AB44: 30.914264 | AC44: 93.349127 | AD44: 741.80299 | AE44: 508.91911 | AF44: 341.83804 | AG44: 198.86894 | AH44: 48.173178 | AI44: 95.592413 | AJ44: 1242.6759 | AK44: 2255.0715 | AL44: 1165.9173 | AM44: -2336.1596 | AN44: 50.87755 | AO44: 97.053736 | AP44: 297.88449 | AQ44: 1467.2351
B45: Securities (net) | C45: 0 | D45: 0 | E45: 0 | F45: 0 | G45: 0 | H45: 0 | I45: 0 | J45: 0 | K45: 0 | L45: 0 | M45: 0 | N45: 279.28461 | O45: 0 | P45: 0 | Q45: 0 | R45: 0 | S45: 0 | T45: 0 | U45: 0 | V45: 0 | W45: 0 | X45: 0 | Y45: 0 | Z45: 0 | AA45: 0 | AB45: 0 | AC45: 0 | AD45: 0 | AE45: 0 | AF45: 0 | AG45: 0 | AH45: 0 | AI45: 0 | AJ45: 0 | AK45: 44265.4 | AL45: -10472.795 | AM45: -14505.852 | AN45: 9997.3521 | AO45: 0 | AP45: 0 | AQ45: 0
B46: Domestic | C46: -90.370911 | D46: -115.04094 | E46: -86.35118 | F46: -103.18678 | G46: -221.11168 | H46: -116.24456 | I46: -320.87664 | J46: -94.447758 | K46: -132.48816 | L46: -1066.262 | M46: -603.01019 | N46: -1356.6018 | O46: -544.90823 | P46: -588.92788 | Q46: -773.17818 | R46: -124.21657 | S46: -1060.0476 | T46: -163.31804 | U46: -331.74667 | V46: -263.70498 | W46: -215.48987 | X46: -449.26304 | Y46: -275.85342 | Z46: -596.04696 | AA46: 9061.8356 | AB46: -1321.7604 | AC46: -146.61101 | AD46: 831.6736 | AE46: -149.17059 | AF46: -163.71037 | AG46: -199.16072 | AH46: -135.50234 | AI46: -96.310209 | AJ46: -447.42575 | AK46: -58.96251 | AL46: -335.19432 | AM46: -172.92107 | AN46: -146.56506 | AO46: -139.96713 | AP46: -301.49598 | AQ46: -210.68171
B47: Loans | C47: 2.2093538 | D47: -3.5722776 | E47: 15.128582 | F47: -8.3404014 | G47: -96.305041 | H47: -49.769627 | I47: -192.90909 | J47: 90.533871 | K47: -48.406309 | L47: -910.4572 | M47: -340.70341 | N47: -1223.4927 | O47: -113.54031 | P47: -220.23115 | Q47: -691.89387 | R47: -96.540958 | S47: -722.95207 | T47: -14.528205 | U47: -262.23812 | V47: -117.42698 | W47: -190.98576 | X47: -418.79296 | Y47: -245.43218 | Z47: -301.45223 | AA47: 709.69733 | AB47: -1285.6182 | AC47: -148.75373 | AD47: 847.01964 | AE47: -140.67441 | AF47: -152.54518 | AG47: -168.63303 | AH47: -98.014535 | AI47: -122.81222 | AJ47: -420.16201 | AK47: -69.271976 | AL47: -330.06598 | AM47: -132.39139 | AN47: -131.65982 | AO47: -141.41067 | AP47: -131.62424 | AQ47: -131.23914
B48: Disbursement1 | C48: 34.654145 | D48: 55.447342 | E48: 64.16788 | F48: 35.691616 | G48: 42.651457 | H48: 37.365226 | I48: 34.770091 | J48: 157.19682 | K48: 26.317192 | L48: 118.16144 | M48: 8.5723522 | N48: 46.798194 | O48: 6.6889901 | P48: 2.5185205 | Q48: 10.260089 | R48: 1.7692083 | S48: 3.0621289 | T48: 0.70862682 | U48: 458.29547 | V48: 5.0460273 | W48: 1.3509108 | X48: 0.88799597 | Y48: 0.44056189 | Z48: 0 | AA48: 1001.2356 | AB48: 0.088652352 | AC48: 443.49779 | AD48: 1539.9646 | AE48: 22.929507 | AF48: 23.917329 | AG48: 1.1038406 | AH48: 33.171937 | AI48: 0.25887495 | AJ48: 0.67833823 | AK48: 0 | AL48: 0.33516721 | AM48: 0 | AN48: 0.11220726 | AO48: 0 | AP48: 0 | AQ48: 0
B49: Amortization1 | C49: 32.444791 | D49: 59.01962 | E49: 49.039299 | F49: 44.032018 | G49: 138.9565 | H49: 87.134852 | I49: 227.67918 | J49: 66.662954 | K49: 74.723501 | L49: 1028.6186 | M49: 349.27576 | N49: 1270.2909 | O49: 120.2293 | P49: 222.74967 | Q49: 702.15396 | R49: 98.310166 | S49: 726.0142 | T49: 15.236832 | U49: 720.53359 | V49: 122.47301 | W49: 192.33667 | X49: 419.68096 | Y49: 245.87275 | Z49: 301.45223 | AA49: 291.53828 | AB49: 1285.7069 | AC49: 592.25152 | AD49: 692.94493 | AE49: 163.60392 | AF49: 176.46251 | AG49: 169.73687 | AH49: 131.18647 | AI49: 123.0711 | AJ49: 420.84035 | AK49: 69.271976 | AL49: 330.40114 | AM49: 132.39139 | AN49: 131.77203 | AO49: 141.41067 | AP49: 131.62424 | AQ49: 131.23914
B50: Securities | C50: -62.219409 | D50: -59.133062 | E50: -64.394871 | F50: -96.0666 | G50: -126.33874 | H50: -68.035379 | I50: -129.54057 | J50: -186.56316 | K50: -85.663251 | L50: -157.37833 | M50: -263.87201 | N50: -134.64491 | O50: -432.87317 | P50: -326.23623 | Q50: -63.998283 | R50: -62.644167 | S50: -312.0503 | T50: -143.33616 | U50: -54.033033 | V50: -143.28948 | W50: -26.377574 | X50: -14.62371 | Y50: -15.676813 | Z50: -296.17104 | AA50: 8334.8595 | AB50: -15.856737 | AC50: -15.302501 | AD50: -15.708335 | AE50: -15.693798 | AF50: -28.896477 | AG50: -16.0938 | AH50: -16.474938 | AI50: -17.011003 | AJ50: -17.300863 | AK50: -17.153568 | AL50: -17.238868 | AM50: -37.837032 | AN50: -17.239251 | AO50: -17.12638 | AP50: -203.96167 | AQ50: -17.25238
B51: Disbursements1 | C51: 135.06714 | D51: 0 | E51: 67.636669 | F51: 0 | G51: 893.22226 | H51: 3.8507433 | I51: 127.76311 | J51: 19.504304 | K51: 0 | L51: 190.7695 | M51: 20.266112 | N51: 56.734599 | O51: 0 | P51: 0 | Q51: 0 | R51: 0 | S51: 0 | T51: 0 | U51: 0 | V51: 0 | W51: 0 | X51: 0 | Y51: 0 | Z51: 175.439 | AA51: 8412.7782 | AB51: 0 | AC51: 0 | AD51: 0 | AE51: 0 | AF51: 2.3175174 | AG51: 0 | AH51: 0 | AI51: 0 | AJ51: 0 | AK51: 0 | AL51: 0 | AM51: 0 | AN51: 0 | AO51: 0 | AP51: 0 | AQ51: 0
... B53: Overdrafts (net)2 | C53: -30.360856 | D53: -52.335596 | E53: -37.08489 | F53: 1.2202234 | G53: 1.5320959 | H53: 1.5604467 | I53: 1.5730265 | J53: 1.5815344 | K53: 1.5813949 | L53: 1.5735104 | M53: 1.5652357 | N53: 1.5357831 | O53: 1.5052396 | P53: -42.460501 | Q53: -17.286025 | R53: 34.968552 | S53: -25.045234 | T53: -5.4536738 | U53: -15.475523 | V53: -2.9885147 | W53: 1.8734674 | X53: -15.84637 | Y53: -14.744422 | Z53: 1.5763065 | AA53: 17.278753 | AB53: -20.285379 | AC53: 17.44522 | AD53: 0.36229582 | AE53: 7.1976128 | AF53: 17.731294 | AG53: -14.433893 | AH53: -21.012872 | AI53: 43.513017 | AJ53: -9.9628851 | AK53: 27.463034 | AL53: 12.110524 | AM53: -2.6926507 | AN53: 2.3340094 | AO53: 18.569923 | AP53: 34.089935 | AQ53: -62.19019
B55: Memorandum items:
B56: Financing balance (-), primary | C56: 559.76548 | D56: 84.689642 | E56: 262.48383 | F56: 303.74601 | G56: 372.79958 | H56: 430.72908 | I56: 164.68791 | J56: -326.05372 | K56: -82.402155 | L56: 318.11191 | M56: 72.558177 | N56: -370.80715 | O56: -134.80089 | P56: 449.54477 | Q56: -182.21808 | R56: -155.86382 | S56: -98.256277 | T56: 45.724471 | U56: 178.61774 | V56: -38.87359 | W56: 1641.7411 | X56: -454.45887 | Y56: -719.61177 | Z56: -419.66301 | AA56: -10014.236 | AB56: 45.230963 | AC56: -42.451196 | AD56: -873.97268 | AE56: -1622.7433 | AF56: 363.5665 | AG56: 106.92704 | AH56: -461.51862 | AI56: -28.008725 | AJ56: 3252.7669 | AK56: -2261.2096 | AL56: 1617.8061 | AM56: 2380.6657 | AN56: 1860.4464 | AO56: 2868.9786 | AP56: 1731.8796 | AQ56: -92.395794
...

Sheet T 1.1
B2: Table 1.1 Suriname: Central government operations budget vs realisation,
B3: Jan - May 2026 (SRD million)
C5: Jan - May 2026 Actual | D5: 2026 Budget | E5: Actual in % of Budget
B8: Total revenues | C8: 30658.026 | D8: 57993.542 | E8: 52.864552
B9: On adjusted cash basis:
B10: Tax revenues | C10: 19349.243 | D10: 42561.348 | E10: 45.462008
B11: Direct taxes | C11: 11345.501 | D11: 20517.745 | E11: 55.296041
B12: Indirect taxes | C12: 8003.7425 | D12: 22043.603 | E12: 36.308686
B13: Non-tax revenues | C13: 11167.9 | D13: 15050.402 | E13: 74.203331
A14: ` | B14: Grants | C14: 140.88336 | D14: 381.792 | E14: 36.900553
B16: Total expenditures | C16: 28877.013 | D16: 68077.437 | E16: 42.417891
B17: On adjusted cash basis:
B18: Wages and salaries | C18: 6263.4198 | D18: 18304.529 | E18: 34.217869
B19: Goods and services | C19: 3379.3925 | D19: 13852.626 | E19: 24.39532
B20: Subsidies and transfers | C20: 9906.9328 | D20: 22351.445 | E20: 44.323456
B21: Interest | C21: 8126.0526 | D21: 6070.111 | E21: 133.86992
B22: Capital expenditure | C22: 1201.2153 | D22: 7498.726 | E22: 16.018925
B24: Primary balance | C24: 9907.0658 | D24: -4013.784 | E24: -246.82608
B25: Overall balance | C25: 1781.0132 | D25: -10083.895 | E25: -17.661957
B27: GDP* | C27: 252256.65 | D27: 252256.65
B29: Primary balance (% of GDP) | C29: 3.9273755 | D29: -1.5911509
B30: Overall balance (% of GDP) | C30: 0.70603222 | D30: -3.9974744
B34: Source: Ministry of Finance and Planning/ Suriname Debt Management Office/ Central Bank of Suriname.
B35: Note: Government operations on a cash basis concern actual receipts and actual payments of the
B36: government during the reporting period. However, revenues are adjusted and presented on
B37: a gross basis taking into account revenues settled with EBS subsidies. Likewise, within
B38: expenditures government subsidies to EBS are presented on gross basis. Classification
B39: and valuation follow the international methodology of the Government Finance Statistics Manual
B40: (GFSM) of the International Monetary Fund.
B41: * Preliminary data.
B42: 1 Data from the Suriname Debt Management Office.

Sheet T 2.1.1
B3: Table 2.1.1 Suriname: Government revenues from mining and non-mining, Jan 2023 - May 2026 (SRD million)
C6: ='T 2.1.2'!C6 -> 44927 | D6: ='T 2.1.2'!D6 -> 44958 | E6: ='T 2.1.2'!E6 -> 44986 | F6: ='T 2.1.2'!F6 -> 45017 | G6: ='T 2.1.2'!G6 -> 45047 | H6: ='T 2.1.2'!H6 -> 45078 | I6: ='T 2.1.2'!I6 -> 45108 | J6: ='T 2.1.2'!J6 -> 45139 | ... AQ6: ='T 2.1.2'!AQ6 -> 46143
B8: Total revenues | C8: 2703.3521 | D8: 1930.5313 | E8: 2639.3926 | F8: 2590.6231 | G8: 3096.5882 | H8: 2854.3237 | I8: 3230.1768 | J8: 3123.3425 | K8: 2677.3685 | L8: 3511.0462 | M8: 2989.6912 | N8: 3711.1489 | O8: 3161.5915 | P8: 3522.0912 | Q8: 3169.7207 | R8: 3224.7024 | S8: 3027.9309 | T8: 3106.2265 | U8: 3583.8644 | V8: 2270.5037 | W8: 4337.8376 | X8: 3385.4691 | Y8: 3150.4832 | Z8: 3472.2753 | AA8: 3576.425 | AB8: 3589.4321 | AC8: 3779.9863 | AD8: 4518.0059 | AE8: 3760.8736 | AF8: 4599.9699 | AG8: 5302.5165 | AH8: 3353.3711 | AI8: 3597.4234 | AJ8: 7082.8176 | AK8: 3091.3469 | AL8: 5866.4722 | AM8: 6783.6246 | AN8: 5465.9625 | AO8: 7190.4641 | AP8: 6830.3493 | AQ8: 4371.9381
B10: Mining1 | C10: 1363.8258 | D10: 982.71703 | E10: 1337.7528 | F10: 1057.1074 | G10: 1648.4596 | H10: 1353.1588 | I10: 1526.8542 | J10: 1117.8792 | K10: 1301.9784 | L10: 1601.7706 | M10: 1338.7808 | N10: 1394.03 | O10: 1647.6064 | P10: 1886.0034 | Q10: 1181.1805 | R10: 1412.3919 | S10: 1354.0185 | T10: 1365.7932 | U10: 1167.6275 | V10: 712.63516 | W10: 2398.9086 | X10: 1231.7859 | Y10: 1087.8047 | Z10: 1086.4496 | AA10: 1324.9586 | AB10: 1539.9171 | AC10: 1604.8489 | AD10: 1822.305 | AE10: 1373.1131 | AF10: 1977.1793 | AG10: 1736.8651 | AH10: 819.20341 | AI10: 841.52003 | AJ10: 3581.8028 | AK10: 884.75607 | AL10: 2462.9436 | AM10: 3513.0344 | AN10: 1721.3252 | AO10: 1751.1818 | AP10: 5767.8896 | AQ10: 1137.6119
B11: Tax revenues | C11: 597.57944 | D11: 441.28108 | E11: 799.36256 | F11: 564.44483 | G11: 786.92898 | H11: 682.14357 | I11: 654.06994 | J11: 676.4076 | K11: 662.31301 | L11: 696.88797 | M11: 677.37511 | N11: 741.46104 | O11: 710.73254 | P11: 653.77123 | Q11: 688.25615 | R11: 769.60283 | S11: 837.41459 | T11: 999.02811 | U11: 664.46144 | V11: 482.69244 | W11: 853.66449 | X11: 618.44085 | Y11: 594.82597 | Z11: 549.14374 | AA11: 916.74224 | AB11: 621.01922 | AC11: 764.04526 | AD11: 1022.4356 | AE11: 718.63321 | AF11: 1551.9416 | AG11: 1038.1171 | AH11: 617.49801 | AI11: 581.09148 | AJ11: 1371.4505 | AK11: 578.27771 | AL11: 843.58492 | AM11: 1299.5782 | AN11: 849.58368 | AO11: 740.59553 | AP11: 4040.2595 | AQ11: 743.74198
B12: Direct taxes | C12: 597.57944 | D12: 441.28108 | E12: 754.00419 | F12: 543.62992 | G12: 766.41394 | H12: 658.65978 | I12: 630.70708 | J12: 658.39649 | K12: 635.05675 | L12: 660.98702 | M12: 648.3782 | N12: 696.06636 | O12: 651.40427 | P12: 604.32156 | Q12: 646.66172 | R12: 760.19727 | S12: 793.53989 | T12: 946.36192 | U12: 620.54923 | V12: 435.69926 | W12: 809.89125 | X12: 573.27338 | Y12: 547.85005 | Z12: 496.84682 | AA12: 892.93283 | AB12: 583.66327 | AC12: 712.81297 | AD12: 970.38656 | AE12: 666.16619 | AF12: 1503.5022 | AG12: 990.20924 | AH12: 563.95497 | AI12: 527.52289 | AJ12: 1322.6713 | AK12: 521.29784 | AL12: 802.85612 | AM12: 1264.0647 | AN12: 807.13883 | AO12: 689.81472 | AP12: 3934.8701 | AQ12: 743.52138
B13: Indirect taxes | C13: 0 | D13: 0 | E13: 45.358366 | F13: 20.814913 | G13: 20.515039 | H13: 23.483785 | I13: 23.362856 | J13: 18.011108 | K13: 27.256259 | L13: 35.900955 | M13: 28.996904 | N13: 45.394683 | O13: 59.32827 | P13: 49.449671 | Q13: 41.59443 | R13: 9.4055629 | S13: 43.874704 | T13: 52.666194 | U13: 43.912208 | V13: 46.993172 | W13: 43.773243 | X13: 45.167467 | Y13: 46.975917 | Z13: 52.29692 | AA13: 23.809408 | AB13: 37.355949 | AC13: 51.232291 | AD13: 52.049046 | AE13: 52.467023 | AF13: 48.439379 | AG13: 47.907904 | AH13: 53.543035 | AI13: 53.568585 | AJ13: 48.779194 | AK13: 56.979872 | AL13: 40.728799 | AM13: 35.513478 | AN13: 42.444853 | AO13: 50.780807 | AP13: 105.3894 | AQ13: 0.22060267
B14: Non-tax revenues | C14: 766.24637 | D14: 541.43595 | E14: 538.39019 | F14: 492.66255 | G14: 861.53065 | H14: 671.01521 | I14: 872.78422 | J14: 441.47162 | K14: 639.66538 | L14: 904.88267 | M14: 661.40566 | N14: 652.56892 | O14: 936.87383 | P14: 1232.2322 | Q14: 492.92439 | R14: 642.7891 | S14: 516.60391 | T14: 366.76509 | U14: 503.16604 | V14: 229.94273 | W14: 1545.2441 | X14: 613.34505 | Y14: 492.97878 | Z14: 537.30585 | AA14: 408.2164 | AB14: 918.8979 | AC14: 840.80367 | AD14: 799.86936 | AE14: 654.47988 | AF14: 425.23763 | AG14: 698.74796 | AH14: 201.7054 | AI14: 260.42855 | AJ14: 2210.3524 | AK14: 306.47835 | AL14: 1619.3587 | AM14: 2213.4563 | AN14: 871.74155 | AO14: 1010.5863 | AP14: 1727.6301 | AQ14: 393.8699
B16: Non-mining | C16: 1339.5263 | D16: 947.81431 | E16: 1301.6399 | F16: 1533.5157 | G16: 1448.1286 | H16: 1501.165 | I16: 1703.3226 | J16: 2005.4633 | K16: 1375.3902 | L16: 1909.2755 | M16: 1650.9104 | N16: 2317.119 | O16: 1513.9852 | P16: 1636.0878 | Q16: 1988.5401 | R16: 1812.3105 | S16: 1673.9124 | T16: 1740.4333 | U16: 2416.2369 | V16: 1557.8685 | W16: 1938.9291 | X16: 2153.6832 | Y16: 2062.6785 | Z16: 2385.8257 | AA16: 2251.4663 | AB16: 2049.515 | AC16: 2175.1373 | AD16: 2695.7009 | AE16: 2387.7605 | AF16: 2622.7907 | AG16: 3565.6514 | AH16: 2534.1677 | AI16: 2755.9034 | AJ16: 3501.0148 | AK16: 2206.5908 | AL16: 3403.5286 | AM16: 3270.5901 | AN16: 3744.6372 | AO16: 5439.2823 | AP16: 1062.4597 | AQ16: 3234.3262
B17: Tax revenues | C17: 927.25907 | D17: 684.57763 | E17: 823.86593 | F17: 1137.1976 | G17: 1036.3884 | H17: 1195.1747 | I17: 1466.9791 | J17: 1676.7596 | K17: 1126.311 | L17: 1495.1399 | M17: 1216.8504 | N17: 1533.388 | O17: 1421.2862 | P17: 1419.8048 | Q17: 1511.7928 | R17: 1547.2984 | S17: 1475.3039 | T17: 1517.392 | U17: 2070.6582 | V17: 1321.9629 | W17: 1586.593 | X17: 1836.4016 | Y17: 1696.9075 | Z17: 2049.4803 | AA17: 1945.8028 | AB17: 1591.3102 | AC17: 1717.884 | AD17: 2081.5219 | AE17: 2101.3962 | AF17: 1952.6288 | AG17: 2882.0352 | AH17: 2205.6547 | AI17: 2432.9032 | AJ17: 3178.6839 | AK17: 1833.1397 | AL17: 3129.9131 | AM17: 2406.0947 | AN17: 1802.7879 | AO17: 5031.5523 | AP17: 359.37971 | AQ17: 2059.982
B18: Direct taxes | C18: 264.92158 | D18: 93.785902 | E18: 239.21576 | F18: 493.77636 | G18: 316.76594 | H18: 462.6528 | I18: 782.29407 | J18: 549.20396 | K18: 363.88911 | L18: 474.09533 | M18: 349.80347 | N18: 409.94956 | O18: 262.38836 | P18: 305.63905 | Q18: 587.82209 | R18: 556.64684 | S18: 358.42464 | T18: 630.81833 | U18: 1078.4338 | V18: 370.7886 | W18: 466.00185 | X18: 679.29298 | Y18: 384.37494 | Z18: 982.86391 | AA18: 460.94458 | AB18: 322.15675 | AC18: 499.75191 | AD18: 683.83691 | AE18: 444.18059 | AF18: 504.88389 | AG18: 1398.4444 | AH18: 581.45998 | AI18: 817.46278 | AJ18: 1452.5782 | AK18: 431.57248 | AL18: 1339.2296 | AM18: 666.77419 | AN18: 260.18879 | AO18: 3497.8024 | AP18: -1116.1507 | AQ18: 581.78857
B19: Indirect taxes | C19: 662.3375 | D19: 590.79173 | E19: 584.65017 | F19: 643.4212 | G19: 719.62246 | H19: 732.52186 | I19: 684.68501 | J19: 1127.5556 | K19: 762.4219 | L19: 1021.0446 | M19: 867.04695 | N19: 1123.4385 | O19: 1158.8978 | P19: 1114.1658 | Q19: 923.97075 | R19: 990.65152 | S19: 1116.8793 | T19: 886.5737 | U19: 992.22442 | V19: 951.17428 | W19: 1120.5911 | X19: 1157.1086 | Y19: 1312.5325 | Z19: 1066.6164 | AA19: 1484.8582 | AB19: 1269.1535 | AC19: 1218.132 | AD19: 1397.685 | AE19: 1657.2156 | AF19: 1447.7449 | AG19: 1483.5908 | AH19: 1624.1947 | AI19: 1615.4404 | AJ19: 1726.1057 | AK19: 1401.5672 | AL19: 1790.6835 | AM19: 1739.3205 | AN19: 1542.5992 | AO19: 1533.7499 | AP19: 1475.5304 | AQ19: 1478.1934
B20: Non-tax revenues | C20: 412.17153 | D20: 263.23668 | E20: 477.47154 | F20: 396.31818 | G20: 405.8771 | H20: 302.3006 | I20: 236.34354 | J20: 251.91149 | K20: 249.07914 | L20: 293.85032 | M20: 420.45023 | N20: 629.25635 | O20: 92.699001 | P20: 216.28298 | Q20: 380.95978 | R20: 260.82031 | S20: 198.03471 | T20: 223.04127 | U20: 345.57869 | V20: 235.90568 | W20: 352.33609 | X20: 317.28161 | Y20: 365.77105 | Z20: 336.34541 | AA20: 123.53966 | AB20: 454.87733 | AC20: 455.90907 | AD20: 521.83519 | AE20: 286.3643 | AF20: 666.21731 | AG20: 539.56175 | AH20: 328.513 | AI20: 323.00026 | AJ20: 314.70184 | AK20: 373.45112 | AL20: 273.61552 | AM20: 784.9496 | AN20: 1941.8493 | AO20: 407.72999 | AP20: 641.74248 | AQ20: 1174.3442
B21: Grants | C21: 0.095689464 | D21: 0 | E21: 0.30240247 | F21: 0 | G21: 5.86307 | H21: 3.6897 | I21: 0 | J21: 76.7922 | K21: 0 | L21: 120.28531 | M21: 13.609785 | N21: 154.47458 | O21: 0 | P21: 0 | Q21: 95.7875 | R21: 4.19184 | S21: 0.57372944 | T21: 0 | U21: 0 | V21: 0 | W21: 0 | X21: 0 | Y21: 0 | Z21: 0 | AA21: 182.12391 | AB21: 3.32748 | AC21: 1.3443233 | AD21: 92.343799 | AE21: 0 | AF21: 3.94452 | AG21: 144.05441 | AH21: 0 | AI21: 0 | AJ21: 7.629 | AK21: 0 | AL21: 0 | AM21: 79.5459 | AN21: 0 | AO21: 0 | AP21: 61.337461 | AQ21: 0
B24: Source: Ministry of Finance and Planning.
B25: *Preliminary data.
B26: Cash revenue data are adjusted and presented on a gross basis taking into account revenues settled with EBS subsidies.
B27: 1Mining revenues from the oil, gold and mining quarrying sectors.
B28: 4Note: The negative amount reflects a timing difference between the deposit made at the commercial bank in March and the transfer to the Central Bank in April.

Sheet T 2.1.2
B3: Table 2.1.2 Suriname: Mining revenues by company segment, revenue type and original currency, Jan 2023 - May 2026
C6: ='T 2.1.3'!C5 -> 44927 | D6: ='T 2.1.3'!D5 -> 44958 | E6: ='T 2.1.3'!E5 -> 44986 | F6: ='T 2.1.3'!F5 -> 45017 | G6: ='T 2.1.3'!G5 -> 45047 | H6: ='T 2.1.3'!H5 -> 45078 | I6: ='T 2.1.3'!I5 -> 45108 | J6: ='T 2.1.3'!J5 -> 45139 | ... AQ6: ='T 2.1.3'!AQ5 -> 46143
B8: Total mining revenues (SRD million)1 | C8: 1363.8258 | D8: 982.71703 | E8: 1337.7528 | F8: 1057.1074 | G8: 1648.4596 | H8: 1353.1588 | I8: 1526.8542 | J8: 1117.8792 | K8: 1301.9784 | L8: 1601.7706 | M8: 1338.7808 | N8: 1394.03 | O8: 1647.6064 | P8: 1886.0034 | Q8: 1181.1805 | R8: 1412.3919 | S8: 1354.0185 | T8: 1365.7932 | U8: 1167.6275 | V8: 712.63516 | W8: 2398.9086 | X8: 1231.7859 | Y8: 1087.8047 | Z8: 1086.4496 | AA8: 1324.9586 | AB8: 1539.9171 | AC8: 1604.8489 | AD8: 1822.305 | AE8: 1373.1131 | AF8: 1977.1793 | AG8: 1736.8651 | AH8: 819.20341 | AI8: 841.52003 | AJ8: 3581.8028 | AK8: 884.75607 | AL8: 2462.9436 | AM8: 3513.0344 | AN8: 1721.3252 | AO8: 1751.1818 | AP8: 5767.8896 | AQ8: 1137.6119
B10: Large and medium-sized companies | C10: 1278.7016 | D10: 871.07791 | E10: 1213.2739 | F10: 888.36639 | G10: 1481.036 | H10: 1222.0032 | I10: 1369.8944 | J10: 984.73208 | K10: 1167.8704 | L10: 1431.061 | M10: 1150.9124 | N10: 1211.1729 | O10: 1496.9045 | P10: 1717.3864 | Q10: 1027.0455 | R10: 1261.5039 | S10: 1165.8453 | T10: 1226.1298 | U10: 1015.6359 | V10: 579.60353 | W10: 2239.2976 | X10: 1070.0201 | Y10: 938.09323 | Z10: 944.33723 | AA10: 1199.2489 | AB10: 1447.6026 | AC10: 1486.4761 | AD10: 1734.7456 | AE10: 1266.8263 | AF10: 1918.2369 | AG10: 1602.4616 | AH10: 718.78089 | AI10: 667.94929 | AJ10: 3377.0545 | AK10: 727.77148 | AL10: 2082.0625 | AM10: 3204.2026 | AN10: 1476.8906 | AO10: 1490.11 | AP10: 5498.8606 | AQ10: 892.7632
B11: Direct taxes | C11: 597.07882 | D11: 440.94735 | E11: 753.70314 | F11: 542.87763 | G11: 766.07738 | H11: 658.25349 | I11: 629.84633 | J11: 657.30969 | K11: 634.24579 | L11: 660.48998 | M11: 647.79611 | N11: 695.1838 | O11: 650.74916 | P11: 599.30504 | Q11: 646.226 | R11: 759.81554 | S11: 792.5017 | T11: 945.42025 | U11: 619.37308 | V11: 434.75189 | W11: 809.23738 | X11: 572.15273 | Y11: 547.49653 | Z11: 495.88661 | AA11: 892.21513 | AB11: 582.53861 | AC11: 711.83283 | AD11: 970.24468 | AE11: 660.94506 | AF11: 1503.3748 | AG11: 976.62911 | AH11: 563.33289 | AI11: 526.58484 | AJ11: 1317.8204 | AK11: 520.69116 | AL11: 802.1196 | AM11: 1262.7443 | AN11: 805.81 | AO11: 688.88218 | AP11: 3928.4427 | AQ11: 742.89037
B12: Indirect taxes | C12: 0 | D12: 0 | E12: 45.358366 | F12: 20.628541 | G12: 20.502945 | H12: 23.330667 | I12: 23.285167 | J12: 17.923155 | K12: 27.256259 | L12: 35.879221 | M12: 28.996077 | N12: 45.345251 | O12: 59.252212 | P12: 49.174751 | Q12: 41.496768 | R12: 9.4055629 | S12: 43.434259 | T12: 52.608309 | U12: 43.790129 | V12: 46.921773 | W12: 43.678417 | X12: 45.078996 | Y12: 46.829141 | Z12: 52.29692 | AA12: 23.548021 | AB12: 37.260191 | AC12: 51.118664 | AD12: 51.987561 | AE12: 48.866037 | AF12: 48.338834 | AG12: 47.700118 | AH12: 53.478336 | AI12: 48.467452 | AJ12: 48.697544 | AK12: 50.248449 | AL12: 39.382558 | AM12: 35.343814 | AN12: 42.299466 | AO12: 46.511451 | AP12: 104.31366 | AQ12: 0
B13: Non-tax revenues | C13: 681.62274 | D13: 430.13057 | E13: 414.21244 | F13: 324.86022 | G13: 694.45564 | H13: 540.41903 | I13: 716.76292 | J13: 309.49923 | K13: 506.36834 | L13: 734.69177 | M13: 474.12023 | N13: 470.64382 | O13: 786.90317 | P13: 1068.9067 | Q13: 339.32271 | R13: 492.2828 | S13: 329.90938 | T13: 228.10124 | U13: 352.47273 | V13: 97.929869 | W13: 1386.3818 | X13: 452.78835 | Y13: 343.76755 | Z13: 396.15369 | AA13: 283.48575 | AB13: 827.80384 | AC13: 723.52459 | AD13: 712.5134 | AE13: 557.01521 | AF13: 366.5233 | AG13: 578.13238 | AH13: 101.96966 | AI13: 92.896998 | AJ13: 2010.5365 | AK13: 156.83187 | AL13: 1240.5603 | AM13: 1906.1145 | AN13: 628.78112 | AO13: 754.7164 | AP13: 1466.1042 | AQ13: 149.87283
B15: Small-scale gold mining companies | C15: 85.12425 | D15: 111.63911 | E15: 124.47881 | F15: 168.74099 | G15: 167.42366 | H15: 131.15558 | I15: 156.95974 | J15: 133.14713 | K15: 134.108 | L15: 170.70967 | M15: 187.86836 | N15: 182.85708 | O15: 150.70183 | P15: 168.617 | Q15: 154.13507 | R15: 150.88802 | S15: 188.17317 | T15: 139.6634 | U15: 151.99154 | V15: 133.03164 | W15: 159.61097 | X15: 161.76582 | Y15: 149.71152 | Z15: 142.11237 | AA15: 125.70973 | AB15: 92.314483 | AC15: 118.37284 | AD15: 87.559327 | AE15: 106.28679 | AF15: 58.942339 | AG15: 134.4035 | AH15: 100.42252 | AI15: 173.57074 | AJ15: 204.74837 | AK15: 156.98459 | AL15: 380.88116 | AM15: 308.83185 | AN15: 244.43464 | AO15: 261.07176 | AP15: 269.02902 | AQ15: 244.84868
B16: Direct taxes | C16: 0.50062629 | D16: 0.3337298 | E16: 0.3010584 | F16: 0.75228451 | G16: 0.33655902 | H16: 0.40628726 | I16: 0.86075084 | J16: 1.0867982 | K16: 0.81095836 | L16: 0.49703602 | M16: 0.5820965 | N16: 0.88255163 | O16: 0.65511054 | P16: 5.016524 | Q16: 0.43572083 | R16: 0.381729 | S16: 1.0381927 | T16: 0.94166525 | U16: 1.1761545 | V16: 0.94737736 | W16: 0.65386936 | X16: 1.120653 | Y16: 0.353516 | Z16: 0.96020868 | AA16: 0.717694 | AB16: 1.1246641 | AC16: 0.980139 | AD16: 0.141877 | AE16: 5.2211295 | AF16: 0.12746525 | AG16: 13.580128 | AH16: 0.622081 | AI16: 0.93805401 | AJ16: 4.8508421 | AK16: 0.606677 | AL16: 0.73652 | AM16: 1.3204003 | AN16: 1.328831 | AO16: 0.93253825 | AP16: 6.4274352 | AQ16: 0.631006
B17: Indirect taxes | C17: 0 | D17: 0 | E17: 0 | F17: 0.186372 | G17: 0.012094 | H17: 0.153118 | I17: 0.077689 | J17: 0.087953 | K17: 0 | L17: 0.021734 | M17: 0.000827 | N17: 0.049432 | O17: 0.076058 | P17: 0.27491968 | Q17: 0.097662 | R17: 0 | S17: 0.44044548 | T17: 0.057885 | U17: 0.122079 | V17: 0.071399 | W17: 0.094826 | X17: 0.088471 | Y17: 0.146776 | Z17: 0 | AA17: 0.261387 | AB17: 0.095758 | AC17: 0.113627 | AD17: 0.061485 | AE17: 3.600986 | AF17: 0.100545 | AG17: 0.207786 | AH17: 0.064699 | AI17: 5.101133 | AJ17: 0.08165 | AK17: 6.731423 | AL17: 1.346241 | AM17: 0.169664 | AN17: 0.145387 | AO17: 4.2693559 | AP17: 1.07574 | AQ17: 0.22060267
B18: Non-tax revenues | C18: 84.623624 | D18: 111.30539 | E18: 124.17775 | F18: 167.80234 | G18: 167.07501 | H18: 130.59618 | I18: 156.0213 | J18: 131.97238 | K18: 133.29704 | L18: 170.1909 | M18: 187.28543 | N18: 181.9251 | O18: 149.97067 | P18: 163.32555 | Q18: 153.60168 | R18: 150.50629 | S18: 186.69453 | T18: 138.66385 | U18: 150.69331 | V18: 132.01286 | W18: 158.86228 | X18: 160.5567 | Y18: 149.21123 | Z18: 141.15216 | AA18: 124.73065 | AB18: 91.094061 | AC18: 117.27908 | AD18: 87.355965 | AE18: 97.464671 | AF18: 58.714329 | AG18: 120.61559 | AH18: 99.735737 | AI18: 167.53156 | AJ18: 199.81588 | AK18: 149.64649 | AL18: 378.7984 | AM18: 307.34178 | AN18: 242.96042 | AO18: 255.86987 | AP18: 261.52584 | AQ18: 243.99707
B20: By original currency
B21: Mining revenues in SRD original currency (SRD million) | C21: 748.87106 | D21: 594.40465 | E21: 913.17914 | F21: 809.21516 | G21: 1120.7516 | H21: 967.08613 | I21: 903.02775 | J21: 601.69408 | K21: 870.30261 | L21: 786.25327 | M21: 850.81314 | N21: 958.76622 | O21: 805.87442 | P21: 779.01053 | Q21: 721.29351 | R21: 645.00241 | S21: 858.33101 | T21: 662.74592 | U21: 531.04573 | V21: 510.4144 | W21: 464.37392 | X21: 496.91688 | Y21: 659.39688 | Z21: 613.39317 | AA21: 740.8968 | AB21: 544.51147 | AC21: 556.08751 | AD21: 583.00013 | AE21: 592.69125 | AF21: 703.9924 | AG21: 682.85745 | AH21: 637.87559 | AI21: 618.00144 | AJ21: 692.56982 | AK21: 613.03518 | AL21: 618.53629 | AM21: 760.05057 | AN21: 755.23797 | AO21: 660.93177 | AP21: 785.74081 | AQ21: 784.07168
B22: Mining revenues in US$ original currency (valued in SRD million) | C22: 614.95475 | D22: 388.31238 | E22: 424.57361 | F22: 247.89222 | G22: 527.70807 | H22: 386.07264 | I22: 623.82641 | J22: 516.18513 | K22: 431.67578 | L22: 815.51737 | M22: 487.96762 | N22: 435.26373 | O22: 841.73195 | P22: 1106.9929 | Q22: 459.88703 | R22: 767.38952 | S22: 495.68749 | T22: 703.04728 | U22: 636.58175 | V22: 202.22076 | W22: 1934.5346 | X22: 734.86902 | Y22: 428.40787 | Z22: 473.05642 | AA22: 584.06183 | AB22: 995.40565 | AC22: 1048.7614 | AD22: 1239.3048 | AE22: 780.42184 | AF22: 1273.1869 | AG22: 1054.0076 | AH22: 181.32782 | AI22: 223.51859 | AJ22: 2889.233 | AK22: 271.72089 | AL22: 1844.4073 | AM22: 2752.9839 | AN22: 966.08726 | AO22: 1090.25 | AP22: 4982.1488 | AQ22: 353.5402
B23: Memorandum:
B24: Mining revenues in US$ original currency (US$ million) | C24: 19.19035 | D24: 11.801014 | E24: 12.203547 | F24: 6.7157624 | G24: 14.204411 | H24: 10.203305 | I24: 16.354938 | J24: 13.460198 | K24: 11.257681 | L24: 21.374361 | M24: 12.857155 | N24: 11.688698 | O24: 23.061149 | P24: 30.887941 | Q24: 13.127252 | R24: 22.400301 | S24: 15.376353 | T24: 22.503274 | U24: 21.660545 | V24: 7.0367027 | W24: 65.166565 | X24: 22.455204 | Y24: 12.153415 | Z24: 13.482 | AA24: 16.679856 | AB24: 28.163356 | AC24: 29.002555 | AD24: 33.767604 | AE24: 21.434861 | AF24: 34.177678 | AG24: 28.716425 | AH24: 4.8450988 | AI24: 5.8308184 | AJ24: 74.439827 | AK24: 7.0908374 | AL24: 48.243764 | AM24: 72.397409 | AN24: 25.636537 | AO24: 29.158087 | AP24: 133.40515 | AQ24: 9.5078581
B25: Large and medium-sized companies | C25: 17.38516 | D25: 9.120878 | E25: 9.584153 | F25: 3.0897714 | G25: 10.519741 | H25: 7.5499914 | I25: 13.153142 | J25: 10.74838 | K25: 8.6211665 | L25: 17.923523 | M25: 8.8674746 | N25: 7.8904595 | O25: 19.797687 | P25: 27.057729 | Q25: 9.7848856 | R25: 19.266103 | S25: 10.678565 | T25: 19.025073 | U25: 17.707358 | V25: 3.4565981 | W25: 61.081061 | X25: 18.671008 | Y25: 8.7785192 | Z25: 10.240094 | AA25: 13.792062 | AB25: 26.158563 | AC25: 26.358159 | AD25: 31.940662 | AE25: 19.255383 | AF25: 33.117542 | AG25: 25.722125 | AH25: 2.7678415 | AI25: 2.5306795 | AJ25: 70.355811 | AK25: 4.2001139 | AL25: 40.485047 | AM25: 66.217435 | AN25: 20.28698 | AO25: 23.813121 | AP25: 127.76823 | AQ25: 4.2047805
B26: Small-scale gold mining companies | C26: 1.8051894 | D26: 2.6801364 | E26: 2.6193943 | F26: 3.625991 | G26: 3.6846699 | H26: 2.6533133 | I26: 3.2017964 | J26: 2.7118176 | K26: 2.6365145 | L26: 3.4508375 | M26: 3.9896809 | N26: 3.7982383 | O26: 3.2634621 | P26: 3.8302118 | Q26: 3.3423667 | R26: 3.1341981 | S26: 4.6977878 | T26: 3.4782009 | U26: 3.9531869 | V26: 3.5801046 | W26: 4.0855033 | X26: 3.7841963 | Y26: 3.3748954 | Z26: 3.2419058 | AA26: 2.8877934 | AB26: 2.0047933 | AC26: 2.6443966 | AD26: 1.8269422 | AE26: 2.1794775 | AF26: 1.0601354 | AG26: 2.9943001 | AH26: 2.0772573 | AI26: 3.3001389 | AJ26: 4.084016 | AK26: 2.8907236 | AL26: 7.7587176 | AM26: 6.1799741 | AN26: 5.349557 | AO26: 5.3449656 | AP26: 5.6369267 | AQ26: 5.3030776
B28: Exchange rate (US$) | C28: 32.045 | D28: 32.905 | E28: 34.791 | F28: 36.912 | G28: 37.151 | H28: 37.838 | I28: 38.143 | J28: 38.349 | K28: 38.345 | L28: 38.154 | M28: 37.953 | N28: 37.238 | O28: 36.5 | P28: 35.839 | Q28: 35.033 | R28: 34.258 | S28: 32.237 | T28: 31.242 | U28: 29.389 | V28: 28.738 | W28: 29.686 | X28: 32.726 | Y28: 35.25 | Z28: 35.088 | AA28: 35.016 | AB28: 35.344 | AC28: 36.161 | AD28: 36.701 | AE28: 36.409 | AF28: 37.252 | AG28: 36.704 | AH28: 37.425 | AI28: 38.334 | AJ28: 38.813 | AK28: 38.32 | AL28: 38.231 | AM28: 38.026 | AN28: 37.684 | AO28: 37.391 | AP28: 37.346 | AQ28: 37.184
B31: Source: Ministry of Finance and Planning.
B32: *Preliminary data.
B33: Cash revenue data are adjusted and presented on a gross basis taking into account revenues settled with EBS subsidies.
B34: 1Mining revenues from the oil, gold and mining quarrying sectors.

Sheet T 2.1.3
B2: Table 2.1.3 Suriname: Mining revenues by revenue type, Jan 2023 - May 2026 (SRD million)
C5: ='T 2.2'!C5 -> 44927 | D5: ='T 2.2'!D5 -> 44958 | E5: ='T 2.2'!E5 -> 44986 | F5: ='T 2.2'!F5 -> 45017 | G5: ='T 2.2'!G5 -> 45047 | H5: ='T 2.2'!H5 -> 45078 | I5: ='T 2.2'!I5 -> 45108 | J5: ='T 2.2'!J5 -> 45139 | ... AQ5: ='T 2.2'!AQ5 -> 46143
B7: Total mining revenues1 | C7: 1363.8258 | D7: 982.71703 | E7: 1337.7528 | F7: 1057.1074 | G7: 1648.4596 | H7: 1353.1588 | I7: 1526.8542 | J7: 1117.8792 | K7: 1301.9784 | L7: 1601.7706 | M7: 1338.7808 | N7: 1394.03 | O7: 1647.6064 | P7: 1886.0034 | Q7: 1181.1805 | R7: 1412.3919 | S7: 1354.0185 | T7: 1365.7932 | U7: 1167.6275 | V7: 712.63516 | W7: 2398.9086 | X7: 1231.7859 | Y7: 1087.8047 | Z7: 1086.4496 | AA7: 1324.9586 | AB7: 1539.9171 | AC7: 1604.8489 | AD7: 1822.305 | AE7: 1373.1131 | AF7: 1977.1793 | AG7: 1736.8651 | AH7: 819.20341 | AI7: 841.52003 | AJ7: 3581.8028 | AK7: 884.75607 | AL7: 2462.9436 | AM7: 3513.0344 | AN7: 1721.3252 | AO7: 1751.1818 | AP7: 5767.8896 | AQ7: 1137.6119
B9: Direct taxes | C9: 597.57944 | D9: 441.28108 | E9: 754.00419 | F9: 543.62992 | G9: 766.41394 | H9: 658.65978 | I9: 630.70708 | J9: 658.39649 | K9: 635.05675 | L9: 660.98702 | M9: 648.3782 | N9: 696.06636 | O9: 651.40427 | P9: 604.32156 | Q9: 646.66172 | R9: 760.19727 | S9: 793.53989 | T9: 946.36192 | U9: 620.54923 | V9: 435.69926 | W9: 809.89125 | X9: 573.27338 | Y9: 547.85005 | Z9: 496.84682 | AA9: 892.93283 | AB9: 583.66327 | AC9: 712.81297 | AD9: 970.38656 | AE9: 666.16619 | AF9: 1503.5022 | AG9: 990.20924 | AH9: 563.95497 | AI9: 527.52289 | AJ9: 1322.6713 | AK9: 521.29784 | AL9: 802.85612 | AM9: 1264.0647 | AN9: 807.13883 | AO9: 689.81472 | AP9: 3934.8701 | AQ9: 743.52138
B10: Corporate tax | C10: 281.21725 | D10: 193.94833 | E10: 495.17794 | F10: 288.99708 | G10: 332.45978 | H10: 372.58679 | I10: 377.65194 | J10: 453.24387 | K10: 386.72255 | L10: 451.3925 | M10: 432.61833 | N10: 516.03447 | O10: 337.94336 | P10: 383.45418 | Q10: 432.32237 | R10: 565.73721 | S10: 385.93115 | T10: 734.12919 | U10: 454.13544 | V10: 267.10972 | W10: 275.31318 | X10: 460.30001 | Y10: 344.8232 | Z10: 277.74743 | AA10: 589.83022 | AB10: 363.51784 | AC10: 367.64152 | AD10: 724.58388 | AE10: 354.93936 | AF10: 1177.0544 | AG10: 730.6944 | AH10: 347.24143 | AI10: 363.9397 | AJ10: 762.8296 | AK10: 343.27024 | AL10: 363.11238 | AM10: 730.88176 | AN10: 338.21858 | AO10: 366.07585 | AP10: 3630.3078 | AQ10: 422.6807
B11: Wage tax (includes social contribution) | C11: 214.78835 | D11: 147.37619 | E11: 149.80589 | F11: 181.06073 | G11: 329.64617 | H11: 196.27569 | I11: 178.61662 | J11: 201.54762 | K11: 186.05448 | L11: 144.03824 | M11: 166.32006 | N11: 154.52523 | O11: 290.92344 | P11: 176.99279 | Q11: 131.07106 | R11: 147.34429 | S11: 334.47588 | T11: 164.56296 | U11: 146.8351 | V11: 166.87337 | W11: 120.49436 | X11: 111.17731 | Y11: 130.19737 | Z11: 138.22162 | AA11: 285.69806 | AB11: 129.76355 | AC11: 116.04266 | AD11: 149.75871 | AE11: 173.16205 | AF11: 322.71907 | AG11: 255.85903 | AH11: 213.12818 | AI11: 159.92913 | AJ11: 243.409 | AK11: 174.23763 | AL11: 128.39768 | AM11: 295.50366 | AN11: 332.61015 | AO11: 193.88603 | AP11: 174.85894 | AQ11: 315.41645
B12: Other direct taxes | C12: 101.57385 | D12: 99.956555 | E12: 109.02037 | F12: 73.572108 | G12: 104.30798 | H12: 89.797308 | I12: 74.438518 | J12: 3.6050006 | K12: 62.279723 | L12: 65.556281 | M12: 49.439812 | N12: 25.506655 | O12: 22.537475 | P12: 43.874598 | Q12: 83.268287 | R12: 47.115761 | S12: 73.132858 | T12: 47.669769 | U12: 19.578689 | V12: 1.7161781 | W12: 414.08371 | X12: 1.7960631 | Y12: 72.829478 | Z12: 80.877769 | AA12: 17.404553 | AB12: 90.381878 | AC12: 229.12879 | AD12: 96.043971 | AE12: 138.06478 | AF12: 3.7287718 | AG12: 3.6558019 | AH12: 3.5853644 | AI12: 3.6540705 | AJ12: 316.43268 | AK12: 3.7899708 | AL12: 311.34607 | AM12: 237.67928 | AN12: 136.3101 | AO12: 129.85285 | AP12: 129.70339 | AQ12: 5.4242272
B14: Indirect taxes | C14: 0 | D14: 0 | E14: 45.358366 | F14: 20.814913 | G14: 20.515039 | H14: 23.483785 | I14: 23.362856 | J14: 18.011108 | K14: 27.256259 | L14: 35.900955 | M14: 28.996904 | N14: 45.394683 | O14: 59.32827 | P14: 49.449671 | Q14: 41.59443 | R14: 9.4055629 | S14: 43.874704 | T14: 52.666194 | U14: 43.912208 | V14: 46.993172 | W14: 43.773243 | X14: 45.167467 | Y14: 46.975917 | Z14: 52.29692 | AA14: 23.809408 | AB14: 37.355949 | AC14: 51.232291 | AD14: 52.049046 | AE14: 52.467023 | AF14: 48.439379 | AG14: 47.907904 | AH14: 53.543035 | AI14: 53.568585 | AJ14: 48.779194 | AK14: 56.979872 | AL14: 40.728799 | AM14: 35.513478 | AN14: 42.444853 | AO14: 50.780807 | AP14: 105.3894 | AQ14: 0.22060267
B15: VAT | C15: 0 | D15: 0 | E15: 45.358366 | F15: 20.814913 | G15: 20.515039 | H15: 23.483785 | I15: 23.362856 | J15: 18.011108 | K15: 27.256259 | L15: 35.900955 | M15: 28.996904 | N15: 45.394683 | O15: 59.32827 | P15: 49.449671 | Q15: 41.59443 | R15: 9.4055629 | S15: 43.874704 | T15: 52.666194 | U15: 43.912208 | V15: 46.993172 | W15: 43.773243 | X15: 45.167467 | Y15: 46.975917 | Z15: 52.29692 | AA15: 23.809408 | AB15: 37.355949 | AC15: 51.232291 | AD15: 52.049046 | AE15: 52.467023 | AF15: 48.439379 | AG15: 47.907904 | AH15: 53.543035 | AI15: 53.568585 | AJ15: 48.779194 | AK15: 56.979872 | AL15: 40.728799 | AM15: 35.513478 | AN15: 42.444853 | AO15: 50.780807 | AP15: 105.3894 | AQ15: 0.22060267
B16: Other indirect taxes | O16: 0 | P16: 0 | Q16: 0 | R16: 0 | S16: 0 | T16: 0 | U16: 0 | V16: 0 | W16: 0 | X16: 0 | Y16: 0 | Z16: 0 | AA16: 0 | AB16: 0 | AC16: 0 | AD16: 0 | AE16: 0 | AF16: 0 | AG16: 0 | AH16: 0 | AI16: 0 | AJ16: 0 | AK16: 0 | AL16: 0 | AM16: 0 | AN16: 0 | AO16: 0 | AP16: 0 | AQ16: 0
B18: Non-tax revenues | C18: 766.24637 | D18: 541.43595 | E18: 538.39019 | F18: 492.66255 | G18: 861.53065 | H18: 671.01521 | I18: 872.78422 | J18: 441.47162 | K18: 639.66538 | L18: 904.88267 | M18: 661.40566 | N18: 652.56892 | O18: 936.87383 | P18: 1232.2322 | Q18: 492.92439 | R18: 642.7891 | S18: 516.60391 | T18: 366.76509 | U18: 503.16604 | V18: 229.94273 | W18: 1545.2441 | X18: 613.34505 | Y18: 492.97878 | Z18: 537.30585 | AA18: 408.2164 | AB18: 918.8979 | AC18: 840.80367 | AD18: 799.86936 | AE18: 654.47988 | AF18: 425.23763 | AG18: 698.74796 | AH18: 201.7054 | AI18: 260.42855 | AJ18: 2210.3524 | AK18: 306.47835 | AL18: 1619.3587 | AM18: 2213.4563 | AN18: 871.74155 | AO18: 1010.5863 | AP18: 1727.6301 | AQ18: 393.8699
B19: Consent rights | C19: 26.789889 | D19: 23.073496 | E19: 31.266404 | F19: 44.553906 | G19: 32.28049 | H19: 30.096819 | I19: 32.82882 | J19: 27.412287 | K19: 32.304819 | L19: 38.389328 | M19: 35.718495 | N19: 40.504986 | O19: 30.55461 | P19: 30.387498 | Q19: 35.990882 | R19: 42.432564 | S19: 44.036391 | T19: 29.647636 | U19: 41.186172 | V19: 26.866502 | W19: 37.157929 | X19: 37.194783 | Y19: 30.403892 | Z19: 27.4374 | AA19: 34.087375 | AB19: 20.115901 | AC19: 21.938749 | AD19: 31.265598 | AE19: 21.130358 | AF19: 18.992983 | AG19: 22.277385 | AH19: 22.048693 | AI19: 40.7188 | AJ19: 42.341262 | AK19: 38.754947 | AL19: 82.484972 | AM19: 83.827958 | AN19: 41.459716 | AO19: 55.986392 | AP19: 55.33394 | AQ19: 46.540122
B20: Royalties | C20: 452.12229 | D20: 224.41214 | E20: 186.31436 | F20: 234.92566 | G20: 522.919 | H20: 193.24276 | I20: 432.49898 | J20: 219.34731 | K20: 236.9406 | L20: 486.58081 | M20: 295.12669 | N20: 245.04985 | O20: 584.296 | P20: 233.35109 | Q20: 212.3849 | R20: 464.66828 | S20: 258.00174 | T20: 199.34493 | U20: 406.91414 | V20: 202.5251 | W20: 198.48152 | X20: 575.68376 | Y20: 250.65743 | Z20: 260.41627 | AA20: 251.46454 | AB20: 637.08471 | AC20: 141.24212 | AD20: 492.29675 | AE20: 230.08755 | AF20: 214.51247 | AG20: 676.1767 | AH20: 179.48438 | AI20: 219.70738 | AJ20: 938.80993 | AK20: 267.4072 | AL20: 614.06362 | AM20: 1427.3783 | AN20: 451.4037 | AO20: 472.18796 | AP20: 1297.6253 | AQ20: 347.32738
B21: Dividend | C21: 287.02042 | D21: 293.35054 | E21: 319.7274 | F21: 212.47088 | G21: 305.60387 | H21: 261.8115 | I21: 216.49732 | J21: 2.823 | K21: 178.93762 | L21: 188.49919 | M21: 140.86725 | N21: 68.836725 | O21: 67.612425 | P21: 179.59606 | Q21: 243.99919 | R21: 135.18431 | S21: 214.23938 | T21: 137.59709 | U21: 53.875416 | V21: 0 | W21: 1309.4953 | X21: 0 | Y21: 211.84875 | Z21: 236.80747 | AA21: 122.3383 | AB21: 261.5325 | AC21: 677.41125 | AD21: 276.285 | AE21: 403.03125 | AF21: 191.07924 | AG21: 0 | AH21: 0 | AI21: 0 | AJ21: 1229.1029 | AK21: 0 | AL21: 922.575 | AM21: 701.50237 | AN21: 378.68004 | AO21: 456.44532 | AP21: 374.50554 | AQ21: 0
B22: Other non-tax | C22: 0.31376712 | D22: 0.5997785 | E22: 1.0820252 | F22: 0.712113 | G22: 0.72728443 | H22: 185.86412 | I22: 190.9591 | J22: 191.88901 | K22: 191.48234 | L22: 191.41334 | M22: 189.69322 | N22: 298.17735 | O22: 254.41079 | P22: 788.89756 | Q22: 0.54942159 | R22: 0.50394356 | S22: 0.32640899 | T22: 0.17542998 | U22: 1.19032 | V22: 0.55112875 | W22: 0.10933294 | X22: 0.46650114 | Y22: 0.06871289 | Z22: 12.644709 | AA22: 0.32617684 | AB22: 0.164793 | AC22: 0.21154919 | AD22: 0.0220135 | AE22: 0.23072136 | AF22: 0.65293692 | AG22: 0.29387492 | AH22: 0.17233157 | AI22: 0.00237 | AJ22: 0.09831444 | AK22: 0.31620806 | AL22: 0.235129 | AM22: 0.74766716 | AN22: 0.19809501 | AO22: 25.966596 | AP22: 0.1653105 | AQ22: 0.0024
B25: Source: Ministry of Finance and Planning.
B26: *Preliminary data.
